BEGIN:VCALENDAR
VERSION:2.0
PRODID:-//Period Power EU - ECPv5.10.0//NONSGML v1.0//EN
CALSCALE:GREGORIAN
METHOD:PUBLISH
X-WR-CALNAME:Period Power EU
X-ORIGINAL-URL:https://periodpower.eu
X-WR-CALDESC:Events for Period Power EU
BEGIN:VTIMEZONE
TZID:Europe/Paris
BEGIN:DAYLIGHT
TZOFFSETFROM:+0100
TZOFFSETTO:+0200
TZNAME:CEST
DTSTART:20210328T010000
END:DAYLIGHT
BEGIN:STANDARD
TZOFFSETFROM:+0200
TZOFFSETTO:+0100
TZNAME:CET
DTSTART:20211031T010000
END:STANDARD
END:VTIMEZONE
BEGIN:VEVENT
DTSTART;TZID=Europe/Paris:20211014T193000
DTEND;TZID=Europe/Paris:20211014T203000
DTSTAMP:20260422T065450
CREATED:20211003T161842Z
LAST-MODIFIED:20211003T161842Z
UID:191-1634239800-1634243400@periodpower.eu
SUMMARY:Atelier règles : pourquoi et comment parler des protections réutilisables à votre patientèle ?
DESCRIPTION:Atelier dédié aux professionnel-les de santé et étudiant-es : sages-femmes\, gynécologues\, médecins généralistes\, soignant-es travaillant au planning familial. Info & registration via this link.
URL:https://periodpower.eu/event/atelier-regles-pourquoi-et-comment-parler-des-protections-reutilisables-a-votre-patientele-2/
LOCATION:In person workshop - French\, Paris\, Paris\, France
END:VEVENT
END:VCALENDAR