BEGIN:VCALENDAR
VERSION:2.0
PRODID:-//Period Power EU - ECPv5.10.0//NONSGML v1.0//EN
CALSCALE:GREGORIAN
METHOD:PUBLISH
X-WR-CALNAME:Period Power EU
X-ORIGINAL-URL:https://periodpower.eu
X-WR-CALDESC:Events for Period Power EU
BEGIN:VTIMEZONE
TZID:Europe/Brussels
BEGIN:DAYLIGHT
TZOFFSETFROM:+0100
TZOFFSETTO:+0200
TZNAME:CEST
DTSTART:20210328T010000
END:DAYLIGHT
BEGIN:STANDARD
TZOFFSETFROM:+0200
TZOFFSETTO:+0100
TZNAME:CET
DTSTART:20211031T010000
END:STANDARD
END:VTIMEZONE
BEGIN:VEVENT
DTSTART;TZID=Europe/Brussels:20211011T140000
DTEND;TZID=Europe/Brussels:20211011T150000
DTSTAMP:20260422T084203
CREATED:20210929T175918Z
LAST-MODIFIED:20211003T161214Z
UID:98-1633960800-1633964400@periodpower.eu
SUMMARY:What about periods
DESCRIPTION:The webinar will examine in greater detail these impacts as well as providing some solutions of how to achieve social and environmental justice for menstruators. Info & registration via this link.
URL:https://periodpower.eu/event/why-we-need-a-bloody-manifesto-in-europe/
LOCATION:Online event - English
CATEGORIES:Environmenstrual Week
END:VEVENT
END:VCALENDAR